{
 "currentVersion": 10.91,
 "serviceDescription": "The RasterRendering service is a multi-tenant raster rendering provider.",
 "name": "Hosted/om201905080915422dsm",
 "description": "",
 "extent": {
  "xmin": 827076.7408634576,
  "ymin": 1105975.7003763844,
  "xmax": 827239.520906454,
  "ymax": 1106127.4226913415,
  "spatialReference": {
   "wkid": 32616,
   "latestWkid": 32616,
   "vcsWkid": 115700,
   "latestVcsWkid": 115700
  }
 },
 "initialExtent": {
  "xmin": 827076.7408634576,
  "ymin": 1105975.7003763844,
  "xmax": 827239.520906454,
  "ymax": 1106127.4226913415,
  "spatialReference": {
   "wkid": 32616,
   "latestWkid": 32616,
   "vcsWkid": 115700,
   "latestVcsWkid": 115700
  }
 },
 "fullExtent": {
  "xmin": 827076.7408634576,
  "ymin": 1105975.7003763844,
  "xmax": 827239.520906454,
  "ymax": 1106127.4226913415,
  "spatialReference": {
   "wkid": 32616,
   "latestWkid": 32616,
   "vcsWkid": 115700,
   "latestVcsWkid": 115700
  }
 },
 "heightModelInfo": {
  "heightModel": "ellipsoidal",
  "vertCRS": "WGS_1984",
  "heightUnit": "meter"
 },
 "hasMultidimensions": false,
 "pixelSizeX": 0.08571882200968786,
 "pixelSizeY": 0.08571882200964048,
 "datasetFormat": "Cache/LERC2D",
 "uncompressedSize": 13444920,
 "blockWidth": 512,
 "blockHeight": 512,
 "compressionType": "LERC2D",
 "bandNames": [
  "Band_1"
 ],
 "allowCopy": true,
 "allowAnalysis": true,
 "bandCount": 1,
 "pixelType": "F32",
 "minPixelSize": 0,
 "maxPixelSize": 0,
 "copyrightText": "",
 "serviceDataType": "esriImageServiceDataTypeElevation",
 "serviceSourceType": "esriImageServiceSourceTypeDataset",
 "minValues": [
  1301.0341796875
 ],
 "maxValues": [
  1322.025390625
 ],
 "meanValues": [
  1309.5798081292626
 ],
 "stdvValues": [
  2.429990327914688
 ],
 "objectIdField": "",
 "fields": [],
 "capabilities": "Image",
 "defaultMosaicMethod": "Center",
 "allowedMosaicMethods": "",
 "sortField": "",
 "sortValue": null,
 "sortAscending": true,
 "mosaicOperator": "First",
 "defaultCompressionQuality": 75,
 "defaultResamplingMethod": "Bilinear",
 "maxImageHeight": 4100,
 "maxImageWidth": 15000,
 "allowRasterFunction": true,
 "rasterFunctionInfos": [
  {
   "name": "None",
   "description": "",
   "help": ""
  }
 ],
 "rasterTypeInfos": [
  {
   "name": "Raster Dataset",
   "description": "Supports all ArcGIS Raster Datasets",
   "help": ""
  }
 ],
 "mensurationCapabilities": "Basic",
 "hasHistograms": true,
 "hasColormap": false,
 "hasRasterAttributeTable": false,
 "minScale": 0,
 "maxScale": 0,
 "exportTilesAllowed": false,
 "supportsStatistics": false,
 "supportsAdvancedQueries": false,
 "editFieldsInfo": null,
 "ownershipBasedAccessControlForRasters": null,
 "allowComputeTiePoints": false,
 "useStandardizedQueries": true,
 "advancedQueryCapabilities": {
  "useStandardizedQueries": true,
  "supportsStatistics": false,
  "supportsOrderBy": false,
  "supportsDistinct": false,
  "supportsPagination": false
 },
 "spatialReference": {
  "wkid": 32616,
  "latestWkid": 32616,
  "vcsWkid": 115700,
  "latestVcsWkid": 115700
 }
}
