{
 "currentVersion": 10.91,
 "serviceDescription": "Hosted/om202304141132523dtm",
 "name": "Hosted/om202304141132523dtm",
 "description": "",
 "extent": {
  "xmin": 823215.8776119158,
  "ymin": 1099119.9995999378,
  "xmax": 823394.4294766298,
  "ymax": 1099296.2905409713,
  "spatialReference": {
   "wkid": 32616,
   "latestWkid": 32616
  }
 },
 "initialExtent": {
  "xmin": 823215.8776119158,
  "ymin": 1099119.9995999378,
  "xmax": 823394.4294766298,
  "ymax": 1099296.2905409713,
  "spatialReference": {
   "wkid": 32616,
   "latestWkid": 32616
  }
 },
 "fullExtent": {
  "xmin": 823215.8776119158,
  "ymin": 1099119.9995999378,
  "xmax": 823394.4294766298,
  "ymax": 1099296.2905409713,
  "spatialReference": {
   "wkid": 32616,
   "latestWkid": 32616
  }
 },
 "hasMultidimensions": false,
 "pixelSizeX": 0.061106045418895444,
 "pixelSizeY": 0.0611060454188951,
 "datasetFormat": "Cache/LERC2D",
 "uncompressedSize": 33719880,
 "blockWidth": 512,
 "blockHeight": 512,
 "compressionType": "LERC2D",
 "bandNames": [
  "Band_1"
 ],
 "allowCopy": true,
 "allowAnalysis": true,
 "bandCount": 1,
 "noDataValue": 3.4E39,
 "noDataValues": [
  3.4E39
 ],
 "pixelType": "F32",
 "minPixelSize": 0,
 "maxPixelSize": 0,
 "copyrightText": "",
 "serviceDataType": "esriImageServiceDataTypeElevation",
 "serviceSourceType": "esriImageServiceSourceTypeDataset",
 "minValues": [
  1230.1070556640625
 ],
 "maxValues": [
  1247.6363525390625
 ],
 "meanValues": [
  1235.6834193724328
 ],
 "stdvValues": [
  3.3255290796193755
 ],
 "objectIdField": "",
 "fields": [],
 "capabilities": "Image, Metadata",
 "defaultMosaicMethod": "Center",
 "allowedMosaicMethods": "",
 "sortField": "",
 "sortValue": null,
 "sortAscending": true,
 "mosaicOperator": "First",
 "defaultCompressionQuality": 75,
 "defaultResamplingMethod": "Bilinear",
 "maxImageHeight": 4100,
 "maxImageWidth": 15000,
 "singleFusedMapCache": true,
 "tileInfo": {
  "rows": 512,
  "cols": 512,
  "dpi": 96,
  "format": "LERC2D",
  "compressionQuality": 10000,
  "lercError": 0.01,
  "origin": {
   "x": 823215.8776119158,
   "y": 1099296.2905409713
  },
  "spatialReference": {
   "wkid": 32616,
   "latestWkid": 32616
  },
  "lods": [
   {
    "level": 0,
    "resolution": 0.4888483633512224,
    "scale": 1847.6121662532119
   },
   {
    "level": 1,
    "resolution": 0.2444241816756112,
    "scale": 923.8060831266059
   },
   {
    "level": 2,
    "resolution": 0.1222120908378056,
    "scale": 461.90304156330296
   },
   {
    "level": 3,
    "resolution": 0.0611060454189028,
    "scale": 230.95152078165148
   }
  ]
 },
 "storageInfo": {
  "storageFormat": "esriMapCacheStorageModeCompactV2",
  "packetSize": 16
 },
 "cacheType": "Raster",
 "allowRasterFunction": true,
 "rasterFunctionInfos": [
  {
   "name": "None",
   "description": "",
   "help": ""
  }
 ],
 "rasterTypeInfos": [
  {
   "name": "Raster Dataset",
   "description": "Supports all ArcGIS Raster Datasets",
   "help": ""
  }
 ],
 "mensurationCapabilities": "Basic",
 "hasHistograms": true,
 "hasColormap": false,
 "hasRasterAttributeTable": false,
 "minScale": 0,
 "maxScale": 0,
 "exportTilesAllowed": false,
 "supportsStatistics": false,
 "supportsAdvancedQueries": false,
 "editFieldsInfo": null,
 "ownershipBasedAccessControlForRasters": null,
 "allowComputeTiePoints": false,
 "useStandardizedQueries": true,
 "advancedQueryCapabilities": {
  "useStandardizedQueries": true,
  "supportsStatistics": false,
  "supportsOrderBy": false,
  "supportsDistinct": false,
  "supportsPagination": false
 },
 "spatialReference": {
  "wkid": 32616,
  "latestWkid": 32616
 }
}
