View In:
ArcGIS JavaScript
ArcGIS Online Map Viewer
ArcGIS Earth
ArcMap
View Footprint In:
ArcGIS Online Map Viewer
Service Description: The RasterRendering service is a multi-tenant raster rendering provider.
Name: Hosted/om20190508091542
Description:
Single Fused Map Cache: false
Extent:
XMin: 827070.0646754962
YMin: 1105967.8222796442
XMax: 827239.1646140144
YMax: 1106126.8038476657
Spatial Reference: 32616
(32616)
LatestVCSWkid(0)
Initial Extent:
XMin: 827070.0646754962
YMin: 1105967.8222796442
XMax: 827239.1646140144
YMax: 1106126.8038476657
Spatial Reference: 32616
(32616)
LatestVCSWkid(0)
Full Extent:
XMin: 827070.0646754962
YMin: 1105967.8222796442
XMax: 827239.1646140144
YMax: 1106126.8038476657
Spatial Reference: 32616
(32616)
LatestVCSWkid(0)
Pixel Size X: 0.01664205673833789
Pixel Size Y: 0.016642056738350983
Band Count: 3
Pixel Type: U8
RasterFunction Infos: {"rasterFunctionInfos": [{
"name": "None",
"description": "A No-Op Function.",
"help": ""
}]}
Mensuration Capabilities: Basic
Has Histograms: true
Has Colormap: false
Has Multi Dimensions : false
Rendering Rule:
Min Scale: 0
Max Scale: 0
Copyright Text:
Edit Fields Info:
- Creation Date Field: CreationTime
- Creator Field: Creator
- Edit Date Field:
- Editor Field:
Ownership Based Access Control:
- Allow Others to Update: true
- Allow Others to Delete: true
Service Data Type: esriImageServiceDataTypeRGB
Min Values: 0, 0, 0
Max Values: 255, 255, 255
Mean Values: 128.47606800000037, 144.01057700000183, 125.76967799999547
Standard Deviation Values: 44.94743598395219, 43.3434896585988, 52.87817370028762
Object ID Field: OBJECTID
Fields:
-
OBJECTID
(
type: esriFieldTypeOID, alias: OBJECTID
)
-
Shape
(
type: esriFieldTypeGeometry, alias: Shape
)
-
Name
(
type: esriFieldTypeString, alias: Name, length: 200
)
-
MinPS
(
type: esriFieldTypeDouble, alias: MinPS
)
-
MaxPS
(
type: esriFieldTypeDouble, alias: MaxPS
)
-
LowPS
(
type: esriFieldTypeDouble, alias: LowPS
)
-
HighPS
(
type: esriFieldTypeDouble, alias: HighPS
)
-
Category
(
type: esriFieldTypeInteger, alias: Category
, Coded Values:
[0: Unknown]
, [1: Primary]
, [2: Overview]
, ...6 more...
)
-
Tag
(
type: esriFieldTypeString, alias: Tag, length: 100
)
-
GroupName
(
type: esriFieldTypeString, alias: GroupName, length: 100
)
-
ProductName
(
type: esriFieldTypeString, alias: ProductName, length: 100
)
-
CenterX
(
type: esriFieldTypeDouble, alias: CenterX
)
-
CenterY
(
type: esriFieldTypeDouble, alias: CenterY
)
-
ZOrder
(
type: esriFieldTypeInteger, alias: ZOrder
)
-
Shape_Length
(
type: esriFieldTypeDouble, alias: Shape_Length
)
-
Shape_Area
(
type: esriFieldTypeDouble, alias: Shape_Area
)
-
StereoID
(
type: esriFieldTypeString, alias: StereoID, length: 50
)
-
SOrder
(
type: esriFieldTypeInteger, alias: SOrder
)
-
SLevelPS
(
type: esriFieldTypeDouble, alias: SLevelPS
)
-
Creator
(
type: esriFieldTypeString, alias: Creator, length: 200
)
-
CreationTime
(
type: esriFieldTypeDate, alias: Creation Time, length: 8
)
-
StripID
(
type: esriFieldTypeInteger, alias: Strip ID
)
-
Candidate
(
type: esriFieldTypeInteger, alias: Candidate
)
Default Mosaic Method: Seamline
Allowed Mosaic Methods: Seamline,NorthWest,Center,LockRaster,ByAttribute,Nadir,Viewpoint,None
SortField:
SortValue: null
Mosaic Operator: First
Default Compression Quality: 75
Default Resampling Method: Bilinear
Max Record Count: 1000
Max Image Height: 4100
Max Image Width: 15000
Max Download Image Count: 20
Max Mosaic Image Count: 80
Allow Raster Function: true
Allow Copy: true
Allow Analysis: true
Allow Compute TiePoints: false
Supports Statistics: true
Supports Advanced Queries: true
Use StandardizedQueries: true
Raster Type Infos:
Name: Raster Dataset
Description: Supports all ArcGIS Raster Datasets
Help:
Has Raster Attribute Table: false
Edit Fields Info: {"creationDateField":"CreationTime","creatorField":"Creator"}
Ownership Based AccessControl For Rasters: {"allowOthersToDelete":true,"allowOthersToUpdate":true}
Child Resources:
Info
Histograms
Statistics
Key Properties
Legend
Raster Function Infos
Supported Operations:
Export Image
Query
Identify
Measure
Compute Histograms
Compute Statistics Histograms
Get Samples
Compute Class Statistics
Query Boundary
Compute Pixel Location
Compute Angles
Validate
Project