View In:
ArcGIS JavaScript
ArcGIS Online Map Viewer
ArcGIS Earth
ArcMap
View Footprint In:
ArcGIS Online Map Viewer
Service Description: The RasterRendering service is a multi-tenant raster rendering provider.
Name: Hosted/om201905080915423dtm
Description:
Single Fused Map Cache: false
Extent:
XMin: 827076.7408634576
YMin: 1105975.7003763844
XMax: 827239.520906454
YMax: 1106127.4226913415
Spatial Reference: 32616
(32616)
VCSWkid(115700)
LatestVCSWkid(115700)
Initial Extent:
XMin: 827076.7408634576
YMin: 1105975.7003763844
XMax: 827239.520906454
YMax: 1106127.4226913415
Spatial Reference: 32616
(32616)
VCSWkid(115700)
LatestVCSWkid(115700)
Full Extent:
XMin: 827076.7408634576
YMin: 1105975.7003763844
XMax: 827239.520906454
YMax: 1106127.4226913415
Spatial Reference: 32616
(32616)
VCSWkid(115700)
LatestVCSWkid(115700)
Pixel Size X: 0.08571882200968786
Pixel Size Y: 0.08571882200964048
Band Count: 1
Pixel Type: F32
RasterFunction Infos: {"rasterFunctionInfos": [{
"name": "None",
"description": "",
"help": ""
}]}
Mensuration Capabilities: Basic
Has Histograms: true
Has Colormap: false
Has Multi Dimensions : false
Rendering Rule:
Min Scale: 0
Max Scale: 0
Copyright Text:
Service Data Type: esriImageServiceDataTypeElevation
Min Values: 1301.0294189453125
Max Values: 1314.215576171875
Mean Values: 1308.4681979361706
Standard Deviation Values: 1.4595368167488172
Object ID Field:
Fields:
None
Default Mosaic Method: Center
Allowed Mosaic Methods:
SortField:
SortValue: null
Mosaic Operator: First
Default Compression Quality: 75
Default Resampling Method: Bilinear
Max Record Count: null
Max Image Height: 4100
Max Image Width: 15000
Max Download Image Count: null
Max Mosaic Image Count: null
Allow Raster Function: true
Allow Copy: true
Allow Analysis: true
Allow Compute TiePoints: false
Supports Statistics: false
Supports Advanced Queries: false
Use StandardizedQueries: true
Raster Type Infos:
Name: Raster Dataset
Description: Supports all ArcGIS Raster Datasets
Help:
Has Raster Attribute Table: false
Edit Fields Info: null
Ownership Based AccessControl For Rasters: null
Child Resources:
Info
Histograms
Statistics
Key Properties
Legend
Raster Function Infos
Supported Operations:
Export Image
Identify
Compute Histograms
Compute Statistics Histograms
Get Samples
Compute Class Statistics
Query Boundary
Compute Pixel Location
Compute Angles
Validate
Project
Calculate Volume