View In:
ArcGIS JavaScript
ArcGIS Online Map Viewer
ArcGIS Earth
ArcMap
View Footprint In:
ArcGIS Online Map Viewer
Service Description: The RasterRendering service is a multi-tenant raster rendering provider.
Name: Hosted/om201905080915424ortho
Description:
Single Fused Map Cache: false
Extent:
XMin: 827070.0646754962
YMin: 1105967.8222796444
XMax: 827239.1646140144
YMax: 1106126.8038476657
Spatial Reference: 32616
(32616)
LatestVCSWkid(0)
Initial Extent:
XMin: 827070.0646754962
YMin: 1105967.8222796444
XMax: 827239.1646140144
YMax: 1106126.8038476657
Spatial Reference: 32616
(32616)
LatestVCSWkid(0)
Full Extent:
XMin: 827070.0646754962
YMin: 1105967.8222796444
XMax: 827239.1646140144
YMax: 1106126.8038476657
Spatial Reference: 32616
(32616)
LatestVCSWkid(0)
Pixel Size X: 0.01664205673833789
Pixel Size Y: 0.01664205673832661
Band Count: 3
Pixel Type: U8
RasterFunction Infos: {"rasterFunctionInfos": [{
"name": "None",
"description": "",
"help": ""
}]}
Mensuration Capabilities: Basic
Has Histograms: true
Has Colormap: false
Has Multi Dimensions : false
Rendering Rule:
Min Scale: 0
Max Scale: 0
Copyright Text:
Service Data Type: esriImageServiceDataTypeRGB
Min Values: 0, 0, 0
Max Values: 255, 255, 255
Mean Values: 124.0570937988298, 141.01575566958718, 123.69192353742355
Standard Deviation Values: 46.5415566478764, 42.66213489703955, 49.433994769078254
Object ID Field:
Fields:
None
Default Mosaic Method: Center
Allowed Mosaic Methods:
SortField:
SortValue: null
Mosaic Operator: First
Default Compression Quality: 75
Default Resampling Method: Bilinear
Max Record Count: null
Max Image Height: 4100
Max Image Width: 15000
Max Download Image Count: null
Max Mosaic Image Count: null
Allow Raster Function: true
Allow Copy: true
Allow Analysis: true
Allow Compute TiePoints: false
Supports Statistics: false
Supports Advanced Queries: false
Use StandardizedQueries: true
Raster Type Infos:
Name: Raster Dataset
Description: Supports all ArcGIS Raster Datasets
Help:
Has Raster Attribute Table: false
Edit Fields Info: null
Ownership Based AccessControl For Rasters: null
Child Resources:
Info
Histograms
Statistics
Key Properties
Legend
Raster Function Infos
Supported Operations:
Export Image
Identify
Compute Histograms
Compute Statistics Histograms
Get Samples
Compute Class Statistics
Query Boundary
Compute Pixel Location
Compute Angles
Validate
Project