View In:
ArcGIS JavaScript
ArcGIS Online Map Viewer
ArcGIS Earth
ArcMap
View Footprint In:
ArcGIS Online Map Viewer
Service Description: Hosted/om202304141132523dtm
Name: Hosted/om202304141132523dtm
Description:
Single Fused Map Cache: true
Tile Info:
- Height: 512
- Width: 512
- DPI: 96
-
Levels of Detail: 4
-
Level ID: 0
[ Start Tile, End Tile ]
- Resolution: 0.4888483633512224
- Scale: 1847.6121662532119
-
Level ID: 1
[ Start Tile, End Tile ]
- Resolution: 0.2444241816756112
- Scale: 923.8060831266059
-
Level ID: 2
[ Start Tile, End Tile ]
- Resolution: 0.1222120908378056
- Scale: 461.90304156330296
-
Level ID: 3
[ Start Tile, End Tile ]
- Resolution: 0.0611060454189028
- Scale: 230.95152078165148
- Format: LERC2D
- Compression Quality: 10000.0
- LERC Error: 0.01
- Origin: X: 823215.8776119158
Y: 1099296.2905409713
- Spatial Reference: 32616
(32616)
LatestVCSWkid(0)
Storage Info:
- Storage Format: esriMapCacheStorageModeCompactV2
- Packet Size: 16
Extent:
XMin: 823215.8776119158
YMin: 1099119.9995999378
XMax: 823394.4294766298
YMax: 1099296.2905409713
Spatial Reference: 32616
(32616)
LatestVCSWkid(0)
Initial Extent:
XMin: 823215.8776119158
YMin: 1099119.9995999378
XMax: 823394.4294766298
YMax: 1099296.2905409713
Spatial Reference: 32616
(32616)
LatestVCSWkid(0)
Full Extent:
XMin: 823215.8776119158
YMin: 1099119.9995999378
XMax: 823394.4294766298
YMax: 1099296.2905409713
Spatial Reference: 32616
(32616)
LatestVCSWkid(0)
Pixel Size X: 0.061106045418895444
Pixel Size Y: 0.0611060454188951
Band Count: 1
Pixel Type: F32
RasterFunction Infos: {"rasterFunctionInfos": [{
"name": "None",
"description": "",
"help": ""
}]}
Mensuration Capabilities: Basic
Has Histograms: true
Has Colormap: false
Has Multi Dimensions : false
Rendering Rule:
Min Scale: 0
Max Scale: 0
Copyright Text:
Service Data Type: esriImageServiceDataTypeElevation
Min Values: 1230.1070556640625
Max Values: 1247.6363525390625
Mean Values: 1235.6834193724328
Standard Deviation Values: 3.3255290796193755
Object ID Field:
Fields:
None
Default Mosaic Method: Center
Allowed Mosaic Methods:
SortField:
SortValue: null
Mosaic Operator: First
Default Compression Quality: 75
Default Resampling Method: Bilinear
Max Record Count: null
Max Image Height: 4100
Max Image Width: 15000
Max Download Image Count: null
Max Mosaic Image Count: null
Allow Raster Function: true
Allow Copy: true
Allow Analysis: true
Allow Compute TiePoints: false
Supports Statistics: false
Supports Advanced Queries: false
Use StandardizedQueries: true
Raster Type Infos:
Name: Raster Dataset
Description: Supports all ArcGIS Raster Datasets
Help:
Has Raster Attribute Table: false
Edit Fields Info: null
Ownership Based AccessControl For Rasters: null
Child Resources:
Info
Histograms
Statistics
Key Properties
Legend
Raster Function Infos
Supported Operations:
Export Image
Identify
Compute Histograms
Compute Statistics Histograms
Get Samples
Compute Class Statistics
Query Boundary
Compute Pixel Location
Compute Angles
Validate
Project
Calculate Volume